Workbook

Sheet 11-3
B1: TRƯỜNG CAO ĐẲNG LÝ TỰ TRỌNG | F1: CỘNG HÒA XÃ HỘI CHỦ NGHĨA VIỆT NAM
B2: THÀNH PHỐ HỒ CHÍ MINH | F2: Độc lập - Tự do - Hạnh phúc
B3: PHÒNG TUYỂN SINH - ĐÀO TẠO
A5: DANH SÁCH NHẬN TIỀN CÔNG TÁC PHÍ THAM DỰ NGÀY HỘI TƯ VẤN HƯỚNG NGHIỆP - TUYỂN SINH 2018 TẠI TRƯỜNG THPT CẦN ĐƯỚC - LONG AN - NGÀY 11/3/2018
A6: TT | B6: HỌ VÀ TÊN | D6: SỐ NGÀY | E6: CÔNG TÁC PHÍ | F6: TIỀN XE | G6: KÝ NHẬN | H6: GHI CHÚ
A7: 1 | B7: Nguyễn Văn | C7: Tấn | D7: 1 | E7: 150000 | F7: 1200000
A8: 2 | B8: Huỳnh Thị Minh | C8: Ly | D8: 1 | E8: 150000
A9: 3 | B9: Nguyễn Thị Hải | C9: Hà | D9: 1 | E9: 150000
A10: 4 | B10: Nguyễn Việt | C10: Tiến | D10: 1 | E10: 150000
B11: TỔNG | E11: =SUM(E7:E10) -> 600000 | F11: 1200000
A12: TỔNG CỘNG | E12: =E11+F11 -> 1800000
A13: Bằng chữ: Một triệu tám trăm ngàn đồng
E14: Thành phố Minh Chí Minh, ngày tháng 5 năm 2018
A15: HIỆU TRƯỞNG | D15: PHÒNG KH-TC | E15: PHÒNG TS- ĐT | G15: NGƯỜI ĐỀ NGHỊ
A20: Phạm Hữu Lộc | D20: Nguyễn Kính | E20: Hồ Văn Sĩ | G20: Nguyễn Thị Hải Hà

Sheet 31-3
A1: TRƯỜNG CAO ĐẲNG LÝ TỰ TRỌNG | G1: CỘNG HÒA XÃ HỘI CHỦ NGHĨA VIỆT NAM
A2: THÀNH PHỐ HỒ CHÍ MINH | G2: Độc lập - Tự do - Hạnh phúc
A3: PHÒNG TUYỂN SINH - ĐÀO TẠO
A5: DANH SÁCH NHẬN TIỀN CÔNG TÁC PHÍ THAM DỰ NGÀY HỘI TƯ VẤN HƯỚNG NGHIỆP - TUYỂN SINH 2018 TẠI TRƯỜNG THCS LỮ GIA - NGÀY 31/3/2018
A6: TT | B6: HỌ VÀ TÊN | D6: SỐ NGÀY | E6: CÔNG TÁC PHÍ | F6: HỖ TRỢ TIỀN XĂNG XE | G6: THÀNH TIỀN | H6: KÝ NHẬN | I6: GHI CHÚ
A7: 1 | B7: Nguyễn Thị | C7: Nhuận | D7: 1 | E7: 150000 | F7: 50000 | G7: =E7+F7 -> 200000
A8: 2 | B8: Huỳnh Thị Minh | C8: Ly | D8: 1 | E8: 150000 | F8: 50000 | G8: =E8+F8 -> 200000
A9: 3 | B9: Nguyễn Việt | C9: Tiến | D9: 1 | E9: 150000 | F9: 50000 | G9: =E9+F9 -> 200000
B10: TỔNG CỘNG | E10: =SUM(E7:E9) -> 450000 | F10: =SUM(F7:F9) -> 150000 | G10: =E10+F10 -> 600000
A11: Bằng chữ: Sáu trăm ngàn đồng
E13: Thành phố Minh Chí Minh, ngày tháng 5 năm 2018
A14: HIỆU TRƯỞNG | D14: PHÒNG KH-TC | F14: PHÒNG TS- ĐT | H14: NGƯỜI ĐỀ NGHỊ
A19: Phạm Hữu Lộc | D19: Nguyễn Kính | F19: Hồ Văn Sĩ | H19: Nguyễn Thị Hải Hà

Sheet 01-4
A1: TRƯỜNG CAO ĐẲNG LÝ TỰ TRỌNG | G1: CỘNG HÒA XÃ HỘI CHỦ NGHĨA VIỆT NAM
A2: THÀNH PHỐ HỒ CHÍ MINH | G2: Độc lập - Tự do - Hạnh phúc
A3: PHÒNG TUYỂN SINH - ĐÀO TẠO
A5: DANH SÁCH NHẬN TIỀN CÔNG TÁC PHÍ THAM DỰ NGÀY HỘI TƯ VẤN HƯỚNG NGHIỆP - TUYỂN SINH 2018 TẠI TRƯỜNG THCS TRẦN HUY LIỆU - NGÀY 01/4/2018
A6: TT | B6: HỌ VÀ TÊN | D6: SỐ NGÀY | E6: CÔNG TÁC PHÍ | F6: HỖ TRỢ TIỀN XĂNG XE | G6: THÀNH TIỀN | H6: KÝ NHẬN | I6: GHI CHÚ
A7: 1 | B7: Nguyễn Văn | C7: Tấn | D7: 1 | E7: 150000 | F7: 50000 | G7: =E7+F7 -> 200000
A8: 2 | B8: Huỳnh Thị Minh | C8: Ly | D8: 1 | E8: 150000 | F8: 50000 | G8: =E8+F8 -> 200000
A9: 3 | B9: Nguyễn Thị Hải | C9: Hà | D9: 1 | E9: 150000 | F9: 50000 | G9: =E9+F9 -> 200000
B10: TỔNG CỘNG | E10: =SUM(E7:E9) -> 450000 | F10: =SUM(F7:F9) -> 150000 | G10: =E10+F10 -> 600000
A11: Bằng chữ: Sáu trăm ngàn đồng
E13: Thành phố Minh Chí Minh, ngày tháng 5 năm 2018
A14: HIỆU TRƯỞNG | D14: PHÒNG KH-TC | F14: PHÒNG TS- ĐT | H14: NGƯỜI ĐỀ NGHỊ
A19: Phạm Hữu Lộc | D19: Nguyễn Kính | F19: Hồ Văn Sĩ | H19: Nguyễn Thị Hải Hà

Sheet Sheet2
A1: TRƯỜNG CAO ĐẲNG LÝ TỰ TRỌNG | G1: CỘNG HÒA XÃ HỘI CHỦ NGHĨA VIỆT NAM
A2: THÀNH PHỐ HỒ CHÍ MINH | G2: Độc lập - Tự do - Hạnh phúc
A3: PHÒNG TUYỂN SINH - ĐÀO TẠO
A5: DANH SÁCH NHẬN TIỀN CÔNG TÁC PHÍ THAM DỰ NGÀY HỘI TƯ VẤN HƯỚNG NGHIỆP - TUYỂN SINH 2018 TẠI TRƯỜNG THCS TRẦN HUY LIỆU - NGÀY 01/4/2018
A6: TT | B6: HỌ VÀ TÊN | D6: SỐ NGÀY | E6: CÔNG TÁC PHÍ | F6: HỖ TRỢ TIỀN XĂNG XE | G6: THÀNH TIỀN | H6: KÝ NHẬN | I6: GHI CHÚ
A7: 1 | B7: Nguyễn Văn | C7: Tấn | D7: 1 | E7: 150000 | F7: 50000 | G7: =E7+F7 -> 200000
B8: TỔNG CỘNG | E8: =SUM(E7:E7) -> 150000 | F8: =SUM(F7:F7) -> 50000 | G8: =E8+F8 -> 200000
A9: Bằng chữ: Hai trăm ngàn đồng
E11: Thành phố Minh Chí Minh, ngày tháng 5 năm 2018
A12: HIỆU TRƯỞNG | D12: PHÒNG KH-TC | F12: PHÒNG TS- ĐT | H12: NGƯỜI ĐỀ NGHỊ
A17: Phạm Hữu Lộc | D17: Nguyễn Kính | F17: Nguyễn Thị Nhuận | H17: Nguyễn Thị Hải Hà

Sheet 0704
A1: TRƯỜNG CAO ĐẲNG LÝ TỰ TRỌNG | G1: CỘNG HÒA XÃ HỘI CHỦ NGHĨA VIỆT NAM
A2: THÀNH PHỐ HỒ CHÍ MINH | G2: Độc lập - Tự do - Hạnh phúc
A3: PHÒNG TUYỂN SINH - ĐÀO TẠO
A5: DANH SÁCH NHẬN TIỀN CÔNG TÁC PHÍ THAM DỰ NGÀY HỘI TƯ VẤN HƯỚNG NGHIỆP - TUYỂN SINH 2018 TẠI TRUNG TÂM GIÁO DỤC THƯỜNG XUYÊN QUẬN 10 - NGÀY 07/4/2018
A6: TT | B6: HỌ VÀ TÊN | D6: SỐ NGÀY | E6: CÔNG TÁC PHÍ | F6: HỖ TRỢ TIỀN XĂNG XE | G6: THÀNH TIỀN | H6: KÝ NHẬN | I6: GHI CHÚ
A7: 1 | B7: Nguyễn Thị | C7: Nhuận | D7: 1 | E7: 150000 | F7: 50000 | G7: =E7+F7 -> 200000
A8: 2 | B8: Võ Thị Lệ | C8: Trân | D8: 1 | E8: 150000 | F8: 50000 | G8: =E8+F8 -> 200000
A9: 3 | B9: Thái Thị My | C9: Sa | D9: 1 | E9: 150000 | F9: 50000 | G9: =E9+F9 -> 200000
B10: TỔNG CỘNG | E10: =SUM(E7:E9) -> 450000 | F10: =SUM(F7:F9) -> 150000 | G10: =E10+F10 -> 600000
A11: Bằng chữ: Sáu trăm ngàn đồng
E13: Thành phố Minh Chí Minh, ngày tháng 5 năm 2018
A14: HIỆU TRƯỞNG | D14: PHÒNG KH-TC | F14: PHÒNG TS- ĐT | H14: NGƯỜI ĐỀ NGHỊ
A19: Phạm Hữu Lộc | D19: Nguyễn Kính | F19: Hồ Văn Sĩ | H19: Nguyễn Thị Hải Hà

Sheet 0804
A1: TRƯỜNG CAO ĐẲNG LÝ TỰ TRỌNG | G1: CỘNG HÒA XÃ HỘI CHỦ NGHĨA VIỆT NAM
A2: THÀNH PHỐ HỒ CHÍ MINH | G2: Độc lập - Tự do - Hạnh phúc
A3: PHÒNG TUYỂN SINH - ĐÀO TẠO
A5: DANH SÁCH NHẬN TIỀN CÔNG TÁC PHÍ THAM DỰ NGÀY HỘI TƯ VẤN HƯỚNG NGHIỆP - TUYỂN SINH 2018 TẠI TRƯỜNG THCS PHẠM VĂN CỘI VÀ THCS CHÂU VĂN LIÊM - NGÀY 08/4/2018
A6: TT | B6: HỌ VÀ TÊN | D6: SỐ NGÀY | E6: CÔNG TÁC PHÍ | F6: HỖ TRỢ TIỀN XĂNG XE | G6: THÀNH TIỀN | H6: KÝ NHẬN | I6: GHI CHÚ
A7: 1 | B7: Nguyễn Văn | C7: Tấn | D7: 1 | E7: 150000 | G7: =E7+F7 -> 150000
A8: 2 | B8: Nguyễn Thị Hải | C8: Hà | D8: 1 | E8: 150000 | G8: =E8+F8 -> 150000
A9: 3 | B9: Nguyễn Việt | C9: Tiến | D9: 1 | E9: 150000 | G9: =E9+F9 -> 150000
A10: 4 | B10: Huỳnh Thị | C10: Mai | D10: 1 | E10: 150000 | F10: 50000 | G10: =E10+F10 -> 200000
A11: 5 | B11: Sỹ Thị | C11: Chung | D11: 1 | E11: 150000 | F11: 50000 | G11: =E11+F11 -> 200000
B12: TỔNG CỘNG | E12: =SUM(E7:E11) -> 750000 | F12: =SUM(F7:F11) -> 100000 | G12: =E12+F12 -> 850000
A13: Bằng chữ: Tám trăm năm mươi ngàn đồng
E15: Thành phố Minh Chí Minh, ngày tháng 5 năm 2018
A16: HIỆU TRƯỞNG | D16: PHÒNG KH-TC | F16: PHÒNG TS- ĐT | H16: NGƯỜI ĐỀ NGHỊ
A21: Phạm Hữu Lộc | D21: Nguyễn Kính | F21: Hồ Văn Sĩ | H21: Nguyễn Thị Hải Hà

Sheet 0904
A1: TRƯỜNG CAO ĐẲNG LÝ TỰ TRỌNG | E1: CỘNG HÒA XÃ HỘI CHỦ NGHĨA VIỆT NAM
A2: THÀNH PHỐ HỒ CHÍ MINH | E2: Độc lập - Tự do - Hạnh phúc
A3: PHÒNG TUYỂN SINH - ĐÀO TẠO
A5: DANH SÁCH NHẬN TIỀN CÔNG TÁC PHÍ THAM DỰ NGÀY HỘI TƯ VẤN HƯỚNG NGHIỆP - TUYỂN SINH 2018 TẠI TRƯỜNG THCS TRUNG LẬP - NGÀY 09/4/2018
A7: TT | B7: HỌ VÀ TÊN | D7: SỐ NGÀY | E7: CÔNG TÁC PHÍ | G7: KÝ NHẬN | H7: GHI CHÚ
A8: 1 | B8: Nguyễn Văn | C8: Tấn | D8: 1 | E8: 150000
A9: 2 | B9: Nguyễn Thị Hải | C9: Hà | D9: 1 | E9: 150000
A10: 3 | B10: Lê Hùng | C10: Thanh | D10: 1 | E10: 150000
A11: 4 | B11: Nguyễn Việt | C11: Tiến | D11: 1 | E11: 150000
A12: TỔNG CỘNG | E12: =SUM(E8:E11) -> 600000
A13: Bằng chữ: Sáu trăm ngàn đồng
E15: Thành phố Minh Chí Minh, ngày tháng 5 năm 2018
A16: HIỆU TRƯỞNG | C16: PHÒNG KH-TC | E16: PHÒNG TS- ĐT | G16: NGƯỜI ĐỀ NGHỊ
A21: Phạm Hữu Lộc | C21: Nguyễn Kính | E21: Hồ Văn Sĩ | G21: Nguyễn Thị Hải Hà

Sheet 124154
A1: TRƯỜNG CAO ĐẲNG LÝ TỰ TRỌNG | G1: CỘNG HÒA XÃ HỘI CHỦ NGHĨA VIỆT NAM
A2: THÀNH PHỐ HỒ CHÍ MINH | G2: Độc lập - Tự do - Hạnh phúc
A3: PHÒNG TUYỂN SINH - ĐÀO TẠO
A5: DANH SÁCH NHẬN TIỀN CÔNG TÁC PHÍ THAM DỰ NGÀY HỘI TƯ VẤN HƯỚNG NGHIỆP - TUYỂN SINH 2018 TẠI TRƯỜNG THCS BÀN CỜ - NGÀY 12/4/2018; THCS NGUYỄN VĂN TRỖI - NGÀY 14/4/2018 VÀ THCS BÌNH HƯNG HÒA, THCS QUANG TRUNG - NGÀY 15/4/2018
A6: TT | B6: HỌ VÀ TÊN | D6: SỐ NGÀY | E6: CÔNG TÁC PHÍ | F6: HỖ TRỢ TIỀN XĂNG XE | G6: THÀNH TIỀN | H6: KÝ NHẬN | I6: GHI CHÚ
A7: 1 | B7: Huỳnh Thị Minh | C7: Ly | D7: 1 | E7: 100000 | F7: 50000 | G7: =E7+F7 -> 150000
A8: 2 | B8: Nguyễn Việt | C8: Tiến | D8: 1 | E8: 100000 | F8: 50000 | G8: =E8+F8 -> 150000
A9: 3 | B9: Hồ Văn | C9: Sĩ | D9: 1 | E9: 150000 | F9: 50000 | G9: =E9+F9 -> 200000
A10: 4 | B10: Vương Hội | C10: Khánh | D10: 1 | E10: 150000 | F10: 50000 | G10: =E10+F10 -> 200000
A11: 5 | B11: Sỹ Thị | C11: Chung | D11: 1 | E11: 150000 | F11: 50000 | G11: =E11+F11 -> 200000
A12: 6 | B12: Nguyễn Thị | C12: Nhuận | D12: 1 | E12: 150000 | F12: 50000 | G12: =E12+F12 -> 200000
A13: 7 | B13: Nguyễn Thị | C13: Thùy | D13: 1 | E13: 150000 | F13: 50000 | G13: =E13+F13 -> 200000
A14: 8 | B14: Nguyễn Thị | C14: Tất | D14: 1 | E14: 150000 | F14: 50000 | G14: =E14+F14 -> 200000
A15: 9 | B15: Nguyễn Thị Hải | C15: Hà | D15: 1 | E15: 150000 | F15: 50000 | G15: =E15+F15 -> 200000
B16: TỔNG CỘNG | E16: =SUM(E7:E15) -> 1250000 | F16: =SUM(F7:F15) -> 450000 | G16: =E16+F16 -> 1700000
A17: Bằng chữ: Một triệu bảy trăm ngàn đồng
E19: Thành phố Minh Chí Minh, ngày tháng 5 năm 2018
A20: HIỆU TRƯỞNG | D20: PHÒNG KH-TC | F20: PHÒNG TS- ĐT | H20: NGƯỜI ĐỀ NGHỊ
A25: Phạm Hữu Lộc | D25: Nguyễn Kính | F25: Hồ Văn Sĩ | H25: Nguyễn Thị Hải Hà

Sheet 134154
A1: TRƯỜNG CAO ĐẲNG LÝ TỰ TRỌNG | G1: CỘNG HÒA XÃ HỘI CHỦ NGHĨA VIỆT NAM
A2: THÀNH PHỐ HỒ CHÍ MINH | G2: Độc lập - Tự do - Hạnh phúc
A3: PHÒNG TUYỂN SINH - ĐÀO TẠO
A5: DANH SÁCH NHẬN TIỀN CÔNG TÁC PHÍ THAM DỰ NGÀY HỘI TƯ VẤN HƯỚNG NGHIỆP - TUYỂN SINH 2018 TẠI TRƯỜNG THCS QUANG TRUNG - NGÀY 13/4/2018; THCS NGUYỄN TRÃI - NGÀY 14/4/2018 VÀ THCS THOẠI NGỌC HẦU, THCS CẦU KIỆU, THCS THỊ TRẤN, THCS ĐỖ VĂN DẬY, THCS NGUYỄN HỒNG ĐÀO - NGÀY 15/4/2018
A7: TT | B7: HỌ VÀ TÊN | D7: SỐ NGÀY | E7: CÔNG TÁC PHÍ | F7: HỖ TRỢ TIỀN XĂNG XE | G7: THÀNH TIỀN | H7: KÝ NHẬN | I7: GHI CHÚ
A8: 1 | B8: Nguyễn Thị | C8: Nhuận | D8: 2 | E8: 200000 | F8: 100000 | G8: =E8+F8 -> 300000
A9: 2 | B9: Sỹ Thị | C9: Chung | D9: 2 | E9: 250000 | F9: 50000 | G9: =E9+F9 -> 300000
A10: 3 | B10: Võ Thị Lệ | C10: Trân | D10: 2 | E10: 250000 | F10: 50000 | G10: =E10+F10 -> 300000
A11: 4 | B11: Huỳnh Thị | C11: Mai | D11: 1 | E11: 150000 | F11: 50000 | G11: =E11+F11 -> 200000
A12: 5 | B12: Nguyễn Văn | C12: Tấn | D12: 1 | E12: 150000 | F12: 50000 | G12: =E12+F12 -> 200000
A13: 6 | B13: Huỳnh Thị Minh | C13: Ly | D13: 1 | E13: 150000 | G13: =E13+F13 -> 150000
A14: 7 | B14: Võ Minh | C14: Phương | D14: 1 | E14: 150000 | G14: =E14+F14 -> 150000
A15: 8 | B15: Vương Hội | C15: Khánh | D15: 1 | E15: 150000 | G15: =E15+F15 -> 150000
A16: 9 | B16: Giáp Thị | C16: Vượng | D16: 1 | E16: 150000 | F16: 50000 | G16: =E16+F16 -> 200000
A17: 10 | B17: Nguyễn Việt | C17: Tiến | D17: 1 | E17: 150000 | G17: =E17+F17 -> 150000
A18: 11 | B18: Lê Hùng | C18: Thanh | D18: 1 | E18: 150000 | G18: =E18+F18 -> 150000
B19: TỔNG CỘNG | E19: =SUM(E8:E18) -> 1900000 | F19: =SUM(F8:F18) -> 350000 | G19: =E19+F19 -> 2250000
A20: Bằng chữ: Hai triệu hai trăm năm mươi ngàn đồng
E22: Thành phố Minh Chí Minh, ngày tháng 5 năm 2018
A23: HIỆU TRƯỞNG | D23: PHÒNG KH-TC | F23: PHÒNG TS- ĐT | H23: NGƯỜI ĐỀ NGHỊ
A28: Phạm Hữu Lộc | D28: Nguyễn Kính | F28: Hồ Văn Sĩ | H28: Nguyễn Thị Hải Hà

Sheet 1604
A1: TRƯỜNG CAO ĐẲNG LÝ TỰ TRỌNG | G1: CỘNG HÒA XÃ HỘI CHỦ NGHĨA VIỆT NAM
A2: THÀNH PHỐ HỒ CHÍ MINH | G2: Độc lập - Tự do - Hạnh phúc
A3: PHÒNG TUYỂN SINH - ĐÀO TẠO
A5: DANH SÁCH NHẬN TIỀN CÔNG TÁC PHÍ THAM DỰ NGÀY HỘI TƯ VẤN HƯỚNG NGHIỆP - TUYỂN SINH 2018 TẠI TRƯỜNG THCS NGUYỄN VĂN NGHI VÀ THCS BÌNH AN - NGÀY 16/4/2018
A6: TT | B6: HỌ VÀ TÊN | D6: SỐ NGÀY | E6: CÔNG TÁC PHÍ | F6: HỖ TRỢ TIỀN XĂNG XE | G6: THÀNH TIỀN | H6: KÝ NHẬN | I6: GHI CHÚ
A7: 1 | B7: Nguyễn Văn | C7: Tấn | D7: 1 | E7: 100000 | F7: 50000 | G7: =E7+F7 -> 150000
A8: 2 | B8: Hồ Văn | C8: Sĩ | D8: 1 | E8: 100000 | G8: =E8+F8 -> 100000
A9: 3 | B9: Võ Minh | C9: Phương | D9: 1 | E9: 100000 | G9: =E9+F9 -> 100000
A10: 4 | B10: Nguyễn Việt | C10: Tiến | D10: 2 | E10: 200000 | F10: 50000 | G10: =E10+F10 -> 250000
A11: 5 | B11: Lê Hùng | C11: Thanh | D11: 1 | E11: 100000 | G11: =E11+F11 -> 100000
B12: TỔNG CỘNG | E12: =SUM(E7:E11) -> 600000 | F12: =SUM(F7:F11) -> 100000 | G12: =E12+F12 -> 700000
A13: Bằng chữ: Bảy trăm ngàn đồng
E15: Thành phố Minh Chí Minh, ngày tháng 5 năm 2018
A16: HIỆU TRƯỞNG | D16: PHÒNG KH-TC | F16: PHÒNG TS- ĐT | H16: NGƯỜI ĐỀ NGHỊ
A21: Phạm Hữu Lộc | D21: Nguyễn Kính | F21: Hồ Văn Sĩ | H21: Nguyễn Thị Hải Hà

Sheet 2004
A1: TRƯỜNG CAO ĐẲNG LÝ TỰ TRỌNG | G1: CỘNG HÒA XÃ HỘI CHỦ NGHĨA VIỆT NAM
A2: THÀNH PHỐ HỒ CHÍ MINH | G2: Độc lập - Tự do - Hạnh phúc
A3: PHÒNG TUYỂN SINH - ĐÀO TẠO
A5: DANH SÁCH NHẬN TIỀN CÔNG TÁC PHÍ THAM DỰ NGÀY HỘI TƯ VẤN HƯỚNG NGHIỆP - TUYỂN SINH 2018 TẠI TRƯỜNG THPT TRÍ ĐỨC - NGÀY 20/4/2018
A6: TT | B6: HỌ VÀ TÊN | D6: SỐ NGÀY | E6: CÔNG TÁC PHÍ | F6: HỖ TRỢ TIỀN XĂNG XE | G6: THÀNH TIỀN | H6: KÝ NHẬN | I6: GHI CHÚ
A7: 1 | B7: Huỳnh Thị Minh | C7: Ly | D7: 1 | E7: 100000 | F7: 50000 | G7: =E7+F7 -> 150000
A8: 2 | B8: Huỳnh Thị | C8: Mai | D8: 1 | E8: 100000 | F8: 50000 | G8: =E8+F8 -> 150000
A9: 3 | B9: Vương Hội | C9: Khánh | D9: 1 | E9: 100000 | F9: 50000 | G9: =E9+F9 -> 150000
A10: 4 | B10: Nguyễn Thị Hải | C10: Hà | D10: 1 | E10: 100000 | F10: 50000 | G10: =E10+F10 -> 150000
B11: TỔNG CỘNG | E11: =SUM(E7:E10) -> 400000 | F11: =SUM(F7:F10) -> 200000 | G11: =E11+F11 -> 600000
A12: Bằng chữ: Sáu trăm ngàn đồng
E14: Thành phố Minh Chí Minh, ngày tháng 5 năm 2018
A15: HIỆU TRƯỞNG | D15: PHÒNG KH-TC | F15: PHÒNG TS- ĐT | H15: NGƯỜI ĐỀ NGHỊ
A20: Phạm Hữu Lộc | D20: Nguyễn Kính | F20: Hồ Văn Sĩ | H20: Nguyễn Thị Hải Hà

Sheet 07051005
A1: TRƯỜNG CAO ĐẲNG LÝ TỰ TRỌNG | G1: CỘNG HÒA XÃ HỘI CHỦ NGHĨA VIỆT NAM
A2: THÀNH PHỐ HỒ CHÍ MINH | G2: Độc lập - Tự do - Hạnh phúc
A3: PHÒNG TUYỂN SINH - ĐÀO TẠO
A5: DANH SÁCH NHẬN TIỀN CÔNG TÁC PHÍ THAM DỰ NGÀY HỘI TƯ VẤN HƯỚNG NGHIỆP - TUYỂN SINH 2018 TẠI TRƯỜNG THCS HÙNG VƯƠNG - NGÀY 07/5/2018; VÀ THCS NGUYỄN DU - NGÀY 15/4/2018
A6: TT | B6: HỌ VÀ TÊN | D6: SỐ NGÀY | E6: CÔNG TÁC PHÍ | F6: HỖ TRỢ TIỀN XĂNG XE | G6: THÀNH TIỀN | H6: KÝ NHẬN | I6: GHI CHÚ
A7: 1 | B7: Hồ Văn | C7: Sĩ | D7: 1 | E7: 100000 | F7: =95000+98000 -> 193000 | G7: 293000 | I7: Kèm theo hóa đơn taxi
A8: 2 | B8: Nguyễn Việt | C8: Tiến | D8: 1 | E8: 100000 | G8: =E8+F8 -> 100000
A9: 3 | B9: Nguyễn Thị | C9: Nhuận | D9: 1 | E9: 100000 | F9: 50000 | G9: =E9+F9 -> 150000
A10: 4 | B10: Võ Thị Lệ | C10: Trân | D10: 1 | E10: 100000 | F10: 50000 | G10: =E10+F10 -> 150000
B11: TỔNG CỘNG | E11: =SUM(E7:E10) -> 400000 | F11: =SUM(F7:F10) -> 293000 | G11: =E11+F11 -> 693000
A12: Bằng chữ: Sáu trăm chín mươi ba ngàn đồng
E14: Thành phố Minh Chí Minh, ngày tháng 5 năm 2018
A15: HIỆU TRƯỞNG | D15: PHÒNG KH-TC | F15: PHÒNG TS- ĐT | H15: NGƯỜI ĐỀ NGHỊ
A20: Phạm Hữu Lộc | D20: Nguyễn Kính | F20: Hồ Văn Sĩ | H20: Nguyễn Thị Hải Hà

Sheet 04050605
B1: TRƯỜNG CAO ĐẲNG LÝ TỰ TRỌNG | G1: CỘNG HÒA XÃ HỘI CHỦ NGHĨA VIỆT NAM
B2: THÀNH PHỐ HỒ CHÍ MINH | G2: Độc lập - Tự do - Hạnh phúc
B3: PHÒNG TUYỂN SINH - ĐÀO TẠO
A5: DANH SÁCH NHẬN TIỀN CÔNG TÁC PHÍ THAM DỰ NGÀY HỘI TƯ VẤN HƯỚNG NGHIỆP - TUYỂN SINH 2018 TẠI TRƯỜNG THCS TÂN THỚI HÒA - NGÀY 29/4/2018; THCS GÒ VẤP - NGÀY 04/5/2018 VÀ THCS NGUYỄN HỒNG ĐÀO, THCS BÌNH TRỊ ĐÔNG, THCS ĐẶNG TRẦN CÔN - NGÀY 06/5/2018
A7: TT | B7: HỌ VÀ TÊN | D7: SỐ NGÀY | E7: CÔNG TÁC PHÍ | F7: HỖ TRỢ TIỀN XĂNG XE | G7: THÀNH TIỀN | H7: KÝ NHẬN | I7: GHI CHÚ
A8: 1 | B8: Nguyễn Thị | C8: Nhuận | D8: 1 | E8: 150000 | F8: 50000 | G8: =E8+F8 -> 200000
A9: 2 | B9: Nguyễn Thị | C9: Thùy | D9: 2 | E9: 300000 | F9: 100000 | G9: =E9+F9 -> 400000
A10: 3 | B10: Nguyễn Văn | C10: Tấn | D10: 1 | E10: 100000 | F10: 50000 | G10: =E10+F10 -> 150000
A11: 4 | B11: Thái Thị My | C11: Sa | D11: 1 | E11: 100000 | F11: 50000 | G11: =E11+F11 -> 150000
A12: 5 | B12: Võ Minh | C12: Phương | D12: 1 | E12: 150000 | F12: 50000 | G12: =E12+F12 -> 200000
A13: 6 | B13: Vương Hội | C13: Khánh | D13: 2 | E13: 250000 | F13: 100000 | G13: =E13+F13 -> 350000
A14: 7 | B14: Sỹ Thị | C14: Chung | D14: 1 | E14: 150000 | F14: 50000 | G14: =E14+F14 -> 200000
A15: 8 | B15: Võ Thị Xuân | C15: Thơ | D15: 1 | E15: 150000 | F15: 50000 | G15: =E15+F15 -> 200000
A16: 9 | B16: Huỳnh Thị Minh | C16: Ly | D16: 1 | E16: 150000 | F16: 50000 | G16: =E16+F16 -> 200000
A17: 10 | B17: Huỳnh Thị | C17: Mai | D17: 1 | E17: 150000 | F17: 50000 | G17: =E17+F17 -> 200000
A18: 11 | B18: Nguyễn Thị Hải | C18: Hà | D18: 1 | E18: 150000 | F18: 50000 | G18: =E18+F18 -> 200000
B19: TỔNG CỘNG | E19: =SUM(E8:E18) -> 1800000 | F19: =SUM(F8:F18) -> 650000 | G19: =E19+F19 -> 2450000
A20: Bằng chữ: Hai triệu bốn trăm năm mươi ngàn đồng
E22: Thành phố Minh Chí Minh, ngày tháng 5 năm 2018
A23: HIỆU TRƯỞNG | D23: PHÒNG KH-TC | F23: PHÒNG TS- ĐT | H23: NGƯỜI ĐỀ NGHỊ
A28: Phạm Hữu Lộc | D28: Nguyễn Kính | F28: Hồ Văn Sĩ | H28: Nguyễn Thị Hải Hà

Sheet Sheet1
B1: TRƯỜNG CAO ĐẲNG LÝ TỰ TRỌNG | F1: CỘNG HÒA XÃ HỘI CHỦ NGHĨA VIỆT NAM
B2: THÀNH PHỐ HỒ CHÍ MINH | F2: Độc lập - Tự do - Hạnh phúc
B3: PHÒNG TUYỂN SINH - ĐÀO TẠO
A5: DANH SÁCH NHẬN TIỀN CÔNG TÁC PHÍ THAM DỰ NGÀY HỘI TƯ VẤN HƯỚNG NGHIỆP - TUYỂN SINH 2018 TẠI TRƯỜNG THPT CẦN ĐƯỚC - LONG AN - NGÀY 11/3/2018
A6: TT | B6: HỌ VÀ TÊN | D6: SỐ NGÀY | E6: CÔNG TÁC PHÍ | F6: TIỀN XE | G6: KÝ NHẬN | H6: GHI CHÚ
A7: 1 | B7: Nguyễn Văn | C7: Tấn | D7: 1 | E7: 150000 | G7: =E7+F7 -> 150000 | H7: 43407
A8: 2 | B8: Huỳnh Thị Minh | C8: Ly | D8: 1 | E8: 150000 | G8: =E8+F8 -> 150000 | H8: 43407
A9: 3 | B9: Nguyễn Thị Hải | C9: Hà | D9: 1 | E9: 150000 | G9: =E9+F9 -> 150000 | H9: 43407
A10: 4 | B10: Nguyễn Việt | C10: Tiến | D10: 1 | E10: 150000 | G10: =E10+F10 -> 150000 | H10: 43407
A11: 1 | B11: Nguyễn Thị | C11: Nhuận | D11: 1 | E11: 150000 | F11: 50000 | G11: =E11+F11 -> 200000 | H11: 31/3/18
A12: 2 | B12: Huỳnh Thị Minh | C12: Ly | D12: 1 | E12: 150000 | F12: 50000 | G12: =E12+F12 -> 200000 | H12: 31/3/18
A13: 3 | B13: Nguyễn Việt | C13: Tiến | D13: 1 | E13: 150000 | F13: 50000 | G13: =E13+F13 -> 200000 | H13: 31/3/18
A14: 1 | B14: Nguyễn Thị | C14: Nhuận | D14: 1 | E14: 150000 | F14: 50000 | G14: =E14+F14 -> 200000 | H14: 43285
A15: 2 | B15: Võ Thị Lệ | C15: Trân | D15: 1 | E15: 150000 | F15: 50000 | G15: =E15+F15 -> 200000 | H15: 43285
A16: 3 | B16: Thái Thị My | C16: Sa | D16: 1 | E16: 150000 | F16: 50000 | G16: =E16+F16 -> 200000 | H16: 43285
A17: 1 | B17: Nguyễn Văn | C17: Tấn | D17: 1 | E17: 150000 | G17: =E17+F17 -> 150000 | H17: 43316
A18: 2 | B18: Nguyễn Thị Hải | C18: Hà | D18: 1 | E18: 150000 | G18: =E18+F18 -> 150000 | H18: 43316
A19: 3 | B19: Nguyễn Việt | C19: Tiến | D19: 1 | E19: 150000 | G19: =E19+F19 -> 150000 | H19: 43316
A20: 4 | B20: Huỳnh Thị | C20: Mai | D20: 1 | E20: 150000 | F20: 50000 | G20: =E20+F20 -> 200000 | H20: 43316
A21: 5 | B21: Sỹ Thị | C21: Chung | D21: 1 | E21: 150000 | F21: 50000 | G21: =E21+F21 -> 200000 | H21: 43316
A22: 1 | B22: Nguyễn Văn | C22: Tấn | D22: 1 | E22: 150000 | G22: =E22+F22 -> 150000 | H22: 43347
A23: 2 | B23: Nguyễn Thị Hải | C23: Hà | D23: 1 | E23: 150000 | G23: =E23+F23 -> 150000 | H23: 43347
A24: 3 | B24: Lê Hùng | C24: Thanh | D24: 1 | E24: 150000 | G24: =E24+F24 -> 150000 | H24: 43347
A25: 4 | B25: Võ Minh | C25: Phương | D25: 1 | E25: 150000 | G25: =E25+F25 -> 150000 | H25: 43347
A26: 1 | B26: Huỳnh Thị Minh | C26: Ly | D26: 1 | E26: 100000 | F26: 50000 | G26: =E26+F26 -> 150000 | H26: 12,15/4/18
A27: 2 | B27: Nguyễn Việt | C27: Tiến | D27: 1 | E27: 100000 | F27: 50000 | G27: =E27+F27 -> 150000 | H27: 12,15/4/18
A28: 3 | B28: Nguyễn Thị | C28: Nhuận | D28: 1 | E28: 150000 | F28: 50000 | G28: =E28+F28 -> 200000 | H28: 12,15/4/18
A29: 4 | B29: Vương Hội | C29: Khánh | D29: 1 | E29: 150000 | F29: 50000 | G29: =E29+F29 -> 200000 | H29: 12,15/4/18
A30: 5 | B30: Sỹ Thị | C30: Chung | D30: 1 | E30: 150000 | F30: 50000 | G30: =E30+F30 -> 200000 | H30: 12,15/4/18
A31: 6 | B31: Nguyễn Việt | C31: Tiến | D31: 1 | E31: 150000 | F31: 50000 | G31: =E31+F31 -> 200000 | H31: 12,15/4/18
A32: 7 | B32: Nguyễn Thị | C32: Thùy | D32: 1 | E32: 150000 | F32: 50000 | G32: =E32+F32 -> 200000 | H32: 12,15/4/18
A33: 8 | B33: Nguyễn Thị | C33: Tất | D33: 1 | E33: 150000 | F33: 50000 | G33: =E33+F33 -> 200000 | H33: 12,15/4/18
A34: 9 | B34: Võ Thị Lệ | C34: Trân | D34: 1 | E34: 150000 | F34: 50000 | G34: =E34+F34 -> 200000 | H34: 12,15/4/18
A35: 1 | B35: Nguyễn Thị | C35: Nhuận | D35: 1 | E35: 100000 | F35: 50000 | G35: =E35+F35 -> 150000 | H35: 13,15/4/18
A36: 2 | B36: Sỹ Thị | C36: Chung | D36: 1 | E36: 100000 | F36: 50000 | G36: =E36+F36 -> 150000 | H36: 13,15/4/18
A37: 1 | B37: Nguyễn Thị | C37: Nhuận | D37: 1 | E37: 100000 | F37: 50000 | G37: =E37+F37 -> 150000 | H37: 13,15/4/18
... A41: 5 | B41: Nguyễn Văn | C41: Tấn | D41: 1 | E41: 150000 | F41: 50000 | G41: =E41+F41 -> 200000 | H41: 13,15/4/18
A42: 6 | B42: Huỳnh Thị Minh | C42: Ly | D42: 1 | E42: 150000 | G42: =E42+F42 -> 150000 | H42: 13,15/4/18
A43: 2 | B43: Sỹ Thị | C43: Chung | D43: 1 | E43: 150000 | G43: =E43+F43 -> 150000 | H43: 13,15/4/18
A44: 7 | B44: Võ Minh | C44: Phương | D44: 1 | E44: 150000 | G44: =E44+F44 -> 150000 | H44: 13,15/4/18
A45: 8 | B45: Vương Hội | C45: Khánh | D45: 1 | E45: 150000 | G45: =E45+F45 -> 150000 | H45: 13,15/4/18
A46: 3 | B46: Nguyễn Thị | C46: Nhuận | D46: 1 | E46: 150000 | G46: =E46+F46 -> 150000 | H46: 13,15/4/18
A47: 10 | B47: Nguyễn Thị Hải | C47: Hà | D47: 1 | E47: 150000 | G47: =E47+F47 -> 150000 | H47: 13,15/4/18
A48: 11 | B48: Lê Hùng | C48: Thanh | D48: 1 | E48: 150000 | G48: =E48+F48 -> 150000 | H48: 13,15/4/18
A49: 1 | B49: Nguyễn Văn | C49: Tấn | D49: 1 | E49: 100000 | F49: 50000 | G49: =E49+F49 -> 150000 | H49: 16/4/18
A50: 4 | B50: Nguyễn Việt | C50: Tiến | D50: 1 | E50: 100000 | F50: 50000 | G50: =E50+F50 -> 150000 | H50: 16/4/18
A51: 4 | B51: Nguyễn Việt | C51: Tiến | D51: 1 | E51: 100000 | G51: =E51+F51 -> 100000 | H51: 16/4/18
A52: 2 | B52: Vương Hội | C52: Khánh | D52: 1 | E52: 100000 | G52: =E52+F52 -> 100000 | H52: 16/4/18
A53: 3 | B53: Võ Minh | C53: Phương | D53: 1 | E53: 100000 | G53: =E53+F53 -> 100000 | H53: 16/4/18
A54: 5 | B54: Lê Hùng | C54: Thanh | D54: 1 | E54: 100000 | G54: =E54+F54 -> 100000 | H54: 16/4/18
A55: 1 | B55: Huỳnh Thị Minh | C55: Ly | D55: 1 | E55: 100000 | F55: 50000 | G55: =E55+F55 -> 150000 | H55: 20/4/18
A56: 2 | B56: Huỳnh Thị | C56: Mai | D56: 1 | E56: 100000 | F56: 50000 | G56: =E56+F56 -> 150000 | H56: 20/4/18
A57: 3 | B57: Vương Hội | C57: Khánh | D57: 1 | E57: 100000 | F57: 50000 | G57: =E57+F57 -> 150000 | H57: 20/4/18
A58: 4 | B58: Nguyễn Thị Hải | C58: Hà | D58: 1 | E58: 100000 | F58: 50000 | G58: =E58+F58 -> 150000 | H58: 20/4/18
A59: 1 | B59: Hồ Văn | C59: Sĩ | D59: 1 | E59: 100000 | G59: =E59+F59 -> 100000 | H59: 7,10/5/18 | I59: Kèm theo hóa đơn taxi
A60: 2 | B60: Nguyễn Việt | C60: Tiến | D60: 1 | E60: 100000 | G60: =E60+F60 -> 100000 | H60: 7,10/5/18
A61: 3 | B61: Nguyễn Thị | C61: Nhuận | D61: 1 | E61: 100000 | F61: 50000 | G61: =E61+F61 -> 150000 | H61: 7,10/5/18
A62: 4 | B62: Võ Thị Lệ | C62: Trân | D62: 1 | E62: 100000 | F62: 50000 | G62: =E62+F62 -> 150000 | H62: 7,10/5/18
A63: 1 | B63: Nguyễn Thị | C63: Nhuận | D63: 1 | E63: 150000 | F63: 50000 | G63: =E63+F63 -> 200000 | H63: 4,6/5/18
A64: 2 | B64: Nguyễn Thị | C64: Thùy | D64: 1 | E64: 150000 | F64: 50000 | G64: =E64+F64 -> 200000 | H64: 4,6/5/18
A65: 3 | B65: Nguyễn Văn | C65: Tấn | D65: 1 | E65: 100000 | F65: 50000 | G65: =E65+F65 -> 150000 | H65: 4,6/5/18
A66: 4 | B66: Thái Thị My | C66: Sa | D66: 1 | E66: 100000 | F66: 50000 | G66: =E66+F66 -> 150000 | H66: 4,6/5/18
A67: 6 | B67: Vương Hội | C67: Khánh | D67: 1 | E67: 100000 | F67: 50000 | G67: =E67+F67 -> 150000 | H67: 4,6/5/18
A68: 5 | B68: Võ Minh | C68: Phương | D68: 1 | E68: 150000 | F68: 50000 | G68: =E68+F68 -> 200000 | H68: 4,6/5/18
A69: 6 | B69: Vương Hội | C69: Khánh | D69: 1 | E69: 150000 | F69: 50000 | G69: =E69+F69 -> 200000 | H69: 4,6/5/18
A70: 7 | B70: Sỹ Thị | C70: Chung | D70: 1 | E70: 150000 | F70: 50000 | G70: =E70+F70 -> 200000 | H70: 4,6/5/18
A71: 8 | B71: Võ Thị Xuân | C71: Thơ | D71: 1 | E71: 150000 | F71: 50000 | G71: =E71+F71 -> 200000 | H71: 4,6/5/18
A72: 2 | B72: Nguyễn Thị | C72: Thùy | D72: 1 | E72: 150000 | F72: 50000 | G72: =E72+F72 -> 200000 | H72: 4,6/5/18
... A75: 11 | B75: Nguyễn Thị Hải | C75: Hà | D75: 1 | E75: 150000 | F75: 50000 | G75: =E75+F75 -> 200000 | H75: 4,6/5/18
B76: TỔNG | E76: =SUM(E7:E75) -> 9200000 | F76: 2250000 | G76: =SUM(G7:G75) -> 11450000 | J76: 1200000
A77: TỔNG CỘNG | E77: =E76+F76 -> 11450000 | J77: 193000
A78: Bằng chữ: Một triệu tám trăm ngàn đồng | J78: =E77+J76+J77 -> 12843000
E79: Thành phố Minh Chí Minh, ngày tháng 5 năm 2018
A80: HIỆU TRƯỞNG | D80: PHÒNG KH-TC | E80: PHÒNG TS- ĐT | G80: NGƯỜI ĐỀ NGHỊ
A85: Phạm Hữu Lộc | D85: Nguyễn Kính | E85: Hồ Văn Sĩ | G85: Nguyễn Thị Hải Hà

Sheet tong hop
A1: TRƯỜNG CAO ĐẲNG LÝ TỰ TRỌNG | G1: CỘNG HÒA XÃ HỘI CHỦ NGHĨA VIỆT NAM
A2: THÀNH PHỐ HỒ CHÍ MINH | G2: Độc lập - Tự do - Hạnh phúc
A3: PHÒNG TUYỂN SINH - ĐÀO TẠO
A5: DANH SÁCH TỔNG HỢP NHẬN TIỀN CÔNG TÁC PHÍ THAM DỰ NGÀY HỘI TƯ VẤN HƯỚNG NGHIỆP - TUYỂN SINH 2018 TẠI TRƯỜNG THCS TPHCM Từ ngày 11/3/2018 đến ngày 10/5/2018
A7: TT | B7: HỌ VÀ TÊN | D7: SỐ NGÀY | E7: CÔNG TÁC PHÍ | F7: HỖ TRỢ TIỀN XĂNG XE | G7: THÀNH TIỀN | H7: KÝ NHẬN | I7: GHI CHÚ
A8: 1 | B8: Nguyễn Văn | C8: Tấn | E8: 800000 | F8: 150000 | G8: =E8+F8 -> 950000
A9: 2 | B9: Nguyễn Thị | C9: Nhuận | E9: 1050000 | F9: 350000 | G9: =E9+F9 -> 1400000 | K9: 900 | L9: 350
A10: 3 | B10: Hồ Văn | C10: Sĩ | E10: 100000 | G10: =E10+F10 -> 100000
A11: 4 | B11: Sỹ Thị | C11: Chung | E11: =150000+150000+150000+100000+150000 -> 700000 | F11: =50000+50000+50000+50000 -> 200000 | G11: =E11+F11 -> 900000
A12: 5 | B12: Võ Thị Lệ | C12: Trân | E12: 500000 | F12: 200000 | G12: =E12+F12 -> 700000
A13: 6 | B13: Huỳnh Thị | C13: Mai | E13: 550000 | F13: =50000+50000+50000+50000 -> 200000 | G13: =E13+F13 -> 750000
A14: 7 | B14: Huỳnh Thị Minh | C14: Ly | E14: 800000 | F14: =50000+50000+50000+50000 -> 200000 | G14: =E14+F14 -> 1000000
A15: 8 | B15: Võ Minh | C15: Phương | E15: 550000 | F15: 50000 | G15: =E15+F15 -> 600000
A16: 9 | B16: Vương Hội | C16: Khánh | E16: =150000+100000+100000+100000+150000+150000 -> 750000 | F16: 200000 | G16: =E16+F16 -> 950000
A17: 10 | B17: Giáp Thị | C17: Vượng | E17: 150000 | F17: 50000 | G17: =E17+F17 -> 200000
A18: 11 | B18: Nguyễn Việt | C18: Tiến | E18: =150000+150000+150000+100000+150000+100000+100000+100000 -> 1000000 | F18: =50000+50000+50000+50000 -> 200000 | G18: =E18+F18 -> 1200000
A19: 12 | B19: Võ Thị Anh | C19: Thơ | E19: 150000 | F19: 50000 | G19: =E19+F19 -> 200000 | K19: =G27+1200000+'07051005'!F7 -> 14236000
A20: 13 | B20: Nguyễn Thị | C20: Thùy | E20: =150000+150000+150000 -> 450000 | F20: =50000+50000+50000 -> 150000 | G20: =E20+F20 -> 600000
A21: 14 | B21: Thái Thị My | C21: Sa | E21: =150000+100000 -> 250000 | F21: =50000+50000 -> 100000 | G21: =E21+F21 -> 350000
A22: 15 | B22: Nguyễn Thị Hải | C22: Hà | E22: 850000 | F22: 100000 | G22: =E22+F22 -> 950000 | K22: ='11-3'!E11 -> 600000
A23: 16 | B23: Nguyễn Thị | C23: Tất | E23: 150000 | F23: 50000 | G23: =E23+F23 -> 200000 | K23: ='31-3'!G10 -> 600000
A24: 17 | B24: Lê Hùng | C24: Thanh | E24: 400000 | G24: =E24+F24 -> 400000 | K24: =Sheet2!G8 -> 200000
A25: 18 | B25: Tiền xe đi Long An | G25: 1200000
A26: 19 | B26: Tiền taxi THCS Hùng Vương | G26: 193000
B27: TỔNG CỘNG | E27: =SUM(E8:E24) -> 9200000 | F27: =SUM(F8:F24) -> 2250000 | G27: =SUM(G8:G26) -> 12843000 | H27: =G27-12843000 -> 0 | K27: ='0704'!G10 -> 600000
A28: Bằng chữ: Mười hai triệu tám trăm bốn mươi ba ngàn đồng | K28: ='0804'!G12 -> 850000
K29: 600000
E30: Thành phố Minh Chí Minh, ngày tháng 5 năm 2018 | K30: ='124154'!G16 -> 1700000
A31: HIỆU TRƯỞNG | D31: PHÒNG KH-TC | F31: PHÒNG TS- ĐT | H31: NGƯỜI ĐỀ NGHỊ | K31: ='134154'!G19 -> 2250000
K32: ='1604'!G12 -> 700000
K33: ='2004'!G11 -> 600000
K34: ='04050605'!G19 -> 2450000
K35: ='07051005'!G11 -> 693000
A36: Phạm Hữu Lộc | D36: Nguyễn Kính | F36: Hồ Văn Sĩ | H36: Nguyễn Thị Hải Hà | K36: =SUM(K22:K35) -> 11843000
K37: =G27+1200000 -> 14043000
